BEGIN:VCALENDAR
VERSION:2.0
PRODID:-//Tukios.com/
BEGIN:VEVENT
UID:fc4cf52a-c662-498b-bcd6-b3ee13c92534@www.claycountyfuneralhome.com
DTSTAMP:20260423T225114Z
DTSTART:20260425
SUMMARY:Burial
DESCRIPTION:
URL:https://www.claycountyfuneralhome.com/obituaries/shelvie-long
LOCATION:Roach-Short Cemetery Ashlock  Burkesville KY 42717
GEO:36.6245222;-85.4264455
END:VEVENT
END:VCALENDAR