BEGIN:VCALENDAR
VERSION:2.0
PRODID:-//Tukios.com/
BEGIN:VEVENT
UID:e2f44e4f-4fc2-4a8b-b725-d533cd88c254@www.claycountyfuneralhome.com
DTSTAMP:20260423T225513Z
DTSTART:20260425T190000Z
DTEND:20260425T200000Z
SUMMARY:Funeral Service
DESCRIPTION:
URL:https://www.claycountyfuneralhome.com/obituaries/shelvie-long
LOCATION: 423 Brown St  Celina TN 38551
GEO:36.547903;-85.5050943
END:VEVENT
END:VCALENDAR