BEGIN:VCALENDAR
VERSION:2.0
PRODID:-//Tukios.com/
BEGIN:VEVENT
UID:30f28234-1484-434e-aba3-332744c56884@www.claycountyfuneralhome.com
DTSTAMP:20260423T225328Z
DTSTART:20260424T200000Z
DTEND:20260425T010000Z
SUMMARY:Visitation
DESCRIPTION:
URL:https://www.claycountyfuneralhome.com/obituaries/shelvie-long
LOCATION: 423 Brown St  Celina TN 38551
GEO:36.547903;-85.5050943
END:VEVENT
END:VCALENDAR